BEGIN:VCALENDAR
VERSION:2.0
PRODID:-//https://www.ikma.edu.my///NONSGML kigkonsult.se iCalcreator 2.10.15//
METHOD:PUBLISH
BEGIN:VEVENT
UID:20260420T032704UTC-2545p9w7h6@https://www.ikma.edu.my/
DTSTAMP:20260420T032704Z
DESCRIPTION:1. Memahami dengan lebih mendalam tentang pelbagai kaedah pemas
 aran melalui media sosial yang boleh diaplikasikan dalam perniagaan.2. Apl
 ikasi teknik pemasaran yang efektif yang boleh diterapkan khususnya melalu
 i aplikasi TikTok. https://www.ikma.edu.my/ms/takwim-program/event/4-strat
 egi-pemasaran-melalui-tiktok
DTSTART:20240729T080000Z
DTEND:20240801T170000Z
LOCATION:INSTITUT KOPERASI MALAYSIA\, PETALING JAYA  (INSTITUT KOPERASI MAL
 AYSIA\, PETALING JAYA )
SUMMARY:Strategi Pemasaran Melalui Tiktok
URL:https://www.ikma.edu.my/ms/takwim-program/event/4-strategi-pemasaran-me
 lalui-tiktok
END:VEVENT
BEGIN:VEVENT
UID:20260420T032704UTC-2547ZIi2tX@https://www.ikma.edu.my/
DTSTAMP:20260420T032704Z
DESCRIPTION:1.&nbsp\;Memberi kefahaman tentang pelarasan akaun akhir tahun 
 yang sewajarnya.2.&nbsp\;Menyediakan penyata kewangan tahunan koperasi men
 gikut peruntukan perundangan. https://www.ikma.edu.my/ms/takwim-program/ev
 ent/5-penyediaan-penyata-kewangan-koperasi
DTSTART:20240729T080000Z
DTEND:20240801T170000Z
LOCATION:INSTITUT KOPERASI MALAYSIA\,PJ (INSTITUT KOPERASI MALAYSIA\,PJ)
SUMMARY:Penyediaan Penyata Kewangan Koperasi
URL:https://www.ikma.edu.my/ms/takwim-program/event/5-penyediaan-penyata-ke
 wangan-koperasi
END:VEVENT
BEGIN:VEVENT
UID:20260420T032704UTC-2548VjNMtH@https://www.ikma.edu.my/
DTSTAMP:20260420T032704Z
DESCRIPTION:\nMemberi pendedahan dan kefahaman tentang peruntukan perundang
 an koperasi.\n\n\nMemberi pendedahan terhadap pematuhan peruntukan perunda
 ngan dalam pengurusan dan pentadbiran koperasi.\n https://www.ikma.edu.my/
 ms/takwim-program/event/6-perundangan-koperasi
DTSTART:20240730T080000Z
DTEND:20240731T170000Z
LOCATION:INSTITUT KOPERASI MALAYSIA\, PETALING JAYA (INSTITUT KOPERASI MALA
 YSIA\, PETALING JAYA)
SUMMARY:Perundangan Koperasi
URL:https://www.ikma.edu.my/ms/takwim-program/event/6-perundangan-koperasi
END:VEVENT
BEGIN:VEVENT
UID:20260420T032704UTC-2549nDxASu@https://www.ikma.edu.my/
DTSTAMP:20260420T032704Z
DESCRIPTION:Memastikan tatacara pengauditan melibatkan tunai\, emas\, dan d
 okumen dijalankan secara sistematik bagi mengelakkan sebarang kes penipuan
  dan ketirisan dalam aktiviti Ar Rahnu. https://www.ikma.edu.my/ms/takwim-
 program/event/7-kursus-audit-terlatih-ar-rahnu
DTSTART:20240730T080000Z
DTEND:20240731T170000Z
LOCATION:INSTITUT KOPERASI MALAYSIA PETALING JAYA (INSTITUT KOPERASI MALAYS
 IA PETALING JAYA)
SUMMARY:Kursus Audit Terlatih Ar Rahnu
URL:https://www.ikma.edu.my/ms/takwim-program/event/7-kursus-audit-terlatih
 -ar-rahnu
END:VEVENT
END:VCALENDAR
