BEGIN:VCALENDAR
VERSION:2.0
PRODID:-//https://www.ikma.edu.my///NONSGML kigkonsult.se iCalcreator 2.10.15//
METHOD:PUBLISH
BEGIN:VEVENT
UID:20260419T121639UTC-587525ulvK@https://www.ikma.edu.my/
DTSTAMP:20260419T121639Z
DESCRIPTION:\n\nMeningkatkan kefahaman peserta mengenai data raya dan anali
 sis data serta membekalkan kemahiran praktikal dalam penggunaan aplikasi a
 nalisis data bagi menyokong kecekapan operasi dan pembuatan keputusan stra
 tegik.\n\n https://www.ikma.edu.my/ms/takwim-program/event/77-wajib-plus-k
 eputusan-pintar-melalui-kuasa-analitik-data
DTSTART:20250218T080000Z
DTEND:20250219T170000Z
LOCATION:INSTITUT KOPERASI MALAYSIA\, PETALING JAYA  (INSTITUT KOPERASI MAL
 AYSIA\, PETALING JAYA )
SUMMARY:WAJIB PLUS - KEPUTUSAN PINTAR MELALUI KUASA ANALITIK DATA
URL:https://www.ikma.edu.my/ms/takwim-program/event/77-wajib-plus-keputusan
 -pintar-melalui-kuasa-analitik-data
END:VEVENT
BEGIN:VEVENT
UID:20260419T121639UTC-5877VdWMc2@https://www.ikma.edu.my/
DTSTAMP:20260419T121639Z
DESCRIPTION:\n\nMemahami potensi dan peluang yang boleh diceburi oleh koper
 asi dalam bidang hartanah &amp\; industri pembinaan\n\n https://www.ikma.e
 du.my/ms/takwim-program/event/78-potensi-koperasi-dalam-sektor-hartanah
DTSTART:20250218T080000Z
DTEND:20250219T170000Z
LOCATION:IKMa Zon Utara ()
SUMMARY:Potensi Koperasi Dalam Sektor Hartanah
URL:https://www.ikma.edu.my/ms/takwim-program/event/78-potensi-koperasi-dal
 am-sektor-hartanah
END:VEVENT
BEGIN:VEVENT
UID:20260419T121639UTC-5878guCiiO@https://www.ikma.edu.my/
DTSTAMP:20260419T121639Z
DESCRIPTION:\n\nPeserta akan dapat menjelaskan berkaitan ciri-ciri pentadbi
 ran koperasi serta amalan pengurusan yang baik.\n\n\nMengaplikasikan penta
 dbiran koperasi mengikut undang-undang.\n\n https://www.ikma.edu.my/ms/tak
 wim-program/event/79-pengurusan-dan-pentadbiran-koperasi-wajib-1
DTSTART:20250218T080000Z
DTEND:20250219T170000Z
LOCATION:IKMa Zon Sabah (Institut Koperasi Malaysia (IKMa) Zon Sabah)
SUMMARY:Pengurusan Dan Pentadbiran Koperasi (Wajib 1)
URL:https://www.ikma.edu.my/ms/takwim-program/event/79-pengurusan-dan-penta
 dbiran-koperasi-wajib-1
END:VEVENT
BEGIN:VEVENT
UID:20260419T121639UTC-5879bodvrf@https://www.ikma.edu.my/
DTSTAMP:20260419T121639Z
DESCRIPTION:\n\nPeserta akan dapat menjelaskan berkaitan ciri-ciri pentadbi
 ran koperasi serta amalan pengurusan yang baik.\n\n\nMengaplikasikan penta
 dbiran koperasi mengikut undang-undang.\n\n https://www.ikma.edu.my/ms/tak
 wim-program/event/80-pengurusan-dan-pentadbiran-koperasi-wajib-1
DTSTART:20250218T080000Z
DTEND:20250219T170000Z
LOCATION:IKMa Seremban ()
SUMMARY:Pengurusan Dan Pentadbiran Koperasi (Wajib 1)
URL:https://www.ikma.edu.my/ms/takwim-program/event/80-pengurusan-dan-penta
 dbiran-koperasi-wajib-1
END:VEVENT
BEGIN:VEVENT
UID:20260419T121639UTC-5881GwCfl3@https://www.ikma.edu.my/
DTSTAMP:20260419T121639Z
DESCRIPTION:\n\nMengenal pasti hala tuju\, konsep dan proses-proses penting
  dalam pengurusan strategik.\n\n https://www.ikma.edu.my/ms/takwim-program
 /event/81-pengurusan-strategik-wajib-3
DTSTART:20250219T080000Z
DTEND:20250220T170000Z
LOCATION:IKMa Cawangan Miri ()
SUMMARY:Pengurusan Strategik (Wajib 3) 
URL:https://www.ikma.edu.my/ms/takwim-program/event/81-pengurusan-strategik
 -wajib-3
END:VEVENT
BEGIN:VEVENT
UID:20260419T121639UTC-5881E0CdN3@https://www.ikma.edu.my/
DTSTAMP:20260419T121639Z
DESCRIPTION:\n\nMenjelaskan peranan dan tanggungjawab Jawatankuasa Audit Da
 laman Koperasi.\n\n\nMengenal pasti proses dan kaedah melaksanakan kerja a
 udit dalaman menggunakantatacara audit yang sistematik.\n\n https://www.ik
 ma.edu.my/ms/takwim-program/event/82-tatacara-pengauditan-dan-perakaunan-k
 operasi-wajib-jad
DTSTART:20250219T080000Z
DTEND:20250220T170000Z
LOCATION:IKMa Zon Selatan ()
SUMMARY:Tatacara Pengauditan dan Perakaunan Koperasi (Wajib JAD)
URL:https://www.ikma.edu.my/ms/takwim-program/event/82-tatacara-pengauditan
 -dan-perakaunan-koperasi-wajib-jad
END:VEVENT
BEGIN:VEVENT
UID:20260419T121639UTC-5882lO4UTW@https://www.ikma.edu.my/
DTSTAMP:20260419T121639Z
DESCRIPTION:\n\nMenjelaskan berkaitan ciri-ciri pentadbiran koperasi serta 
 amalan pengurusan yang baik.\n\n\nMengaplikasikan pentadbiran koperasi men
 gikut undang-undang.\n\n https://www.ikma.edu.my/ms/takwim-program/event/8
 3-pengurusan-dan-pentadbiran-koperasi-wajib-1
DTSTART:20250219T080000Z
DTEND:20250220T170000Z
LOCATION:IKMa Zon Utara ()
SUMMARY:Pengurusan dan Pentadbiran Koperasi (Wajib 1)
URL:https://www.ikma.edu.my/ms/takwim-program/event/83-pengurusan-dan-penta
 dbiran-koperasi-wajib-1
END:VEVENT
BEGIN:VEVENT
UID:20260419T121639UTC-5883TUisn6@https://www.ikma.edu.my/
DTSTAMP:20260419T121639Z
DESCRIPTION: https://www.ikma.edu.my/ms/takwim-program/event/84-bual-bicara
 -pemimpin
DTSTART:20250219T080000Z
DTEND:20250219T170000Z
LOCATION:IKMa Zon Utara ()
SUMMARY:Bual Bicara Pemimpin
URL:https://www.ikma.edu.my/ms/takwim-program/event/84-bual-bicara-pemimpin
END:VEVENT
END:VCALENDAR
