BEGIN:VCALENDAR
VERSION:2.0
PRODID:-//https://www.ikma.edu.my///NONSGML kigkonsult.se iCalcreator 2.10.15//
METHOD:PUBLISH
BEGIN:VEVENT
UID:20260419T151820UTC-3215388nHf@https://www.ikma.edu.my/
DTSTAMP:20260419T151820Z
DESCRIPTION: https://www.ikma.edu.my/en/takwim-program/event/84-bual-bicara
 -pemimpin
DTSTART:20250219T080000Z
DTEND:20250219T170000Z
LOCATION:IKMa Zon Utara ()
SUMMARY:Bual Bicara Pemimpin
URL:https://www.ikma.edu.my/en/takwim-program/event/84-bual-bicara-pemimpin
END:VEVENT
END:VCALENDAR
