BEGIN:VCALENDAR
VERSION:2.0
PRODID:-//https://www.ikma.edu.my///NONSGML kigkonsult.se iCalcreator 2.10.15//
METHOD:PUBLISH
BEGIN:VEVENT
UID:20260421T140037UTC-3671Vt5VfM@https://www.ikma.edu.my/
DTSTAMP:20260421T140037Z
DESCRIPTION:\n\nMenjelaskan berkaitan ciri-ciri pentadbiran koperasi serta 
 amalan pengurusan yang baik.\n\n\nMengaplikasikan pentadbiran koperasi men
 gikut undang-undang.\n\n https://www.ikma.edu.my/en/takwim-program/event/8
 3-pengurusan-dan-pentadbiran-koperasi-wajib-1
DTSTART:20250219T080000Z
DTEND:20250220T170000Z
LOCATION:IKMa Zon Utara ()
SUMMARY:Pengurusan dan Pentadbiran Koperasi (Wajib 1)
URL:https://www.ikma.edu.my/en/takwim-program/event/83-pengurusan-dan-penta
 dbiran-koperasi-wajib-1
END:VEVENT
END:VCALENDAR
