BEGIN:VCALENDAR
VERSION:2.0
PRODID:-//https://www.ikma.edu.my///NONSGML kigkonsult.se iCalcreator 2.10.15//
METHOD:PUBLISH
BEGIN:VEVENT
UID:20260421T140436UTC-1910UmK0Je@https://www.ikma.edu.my/
DTSTAMP:20260421T140436Z
DESCRIPTION:\n\nMengenal pasti hala tuju\, konsep dan proses-proses penting
  dalam pengurusan strategik.\n\n https://www.ikma.edu.my/en/takwim-program
 /event/72-pengurusan-strategik-wajib-3
DTSTART:20250212T080000Z
DTEND:20250213T170000Z
LOCATION:IKMa Zon Sabah (Institut Koperasi Malaysia (IKMa) Zon Sabah)
SUMMARY:Pengurusan Strategik (Wajib 3) 
URL:https://www.ikma.edu.my/en/takwim-program/event/72-pengurusan-strategik
 -wajib-3
END:VEVENT
END:VCALENDAR
