BEGIN:VCALENDAR
VERSION:2.0
PRODID:-//https://www.ikma.edu.my///NONSGML kigkonsult.se iCalcreator 2.10.15//
METHOD:PUBLISH
BEGIN:VEVENT
UID:20260419T152626UTC-1702GvRgTw@https://www.ikma.edu.my/
DTSTAMP:20260419T152626Z
DESCRIPTION:\n\nMemahami piawaian perakaunan dan tatacara yang perlu dipatu
 hi oleh koperasimengikut Akta Koperasi 1993.\n\n\nMenilai kandungan penyat
 a kewangan berdasarkan piawaian dan tatacara yangditetapkan.\n\n https://w
 ww.ikma.edu.my/en/takwim-program/event/71-piawaian-pelaporan-perakaunan-ko
 perasi
DTSTART:20250212T080000Z
DTEND:20250213T170000Z
LOCATION:Dalam Talian (Dalam Talian (Online))
SUMMARY:Piawaian Pelaporan Perakaunan Koperasi
URL:https://www.ikma.edu.my/en/takwim-program/event/71-piawaian-pelaporan-p
 erakaunan-koperasi
END:VEVENT
END:VCALENDAR
