BEGIN:VCALENDAR
VERSION:2.0
PRODID:-//https://www.ikma.edu.my///NONSGML kigkonsult.se iCalcreator 2.10.15//
METHOD:PUBLISH
BEGIN:VEVENT
UID:20260419T152120UTC-7906LBUGuc@https://www.ikma.edu.my/
DTSTAMP:20260419T152120Z
DESCRIPTION:\n\nPeserta akan dapat menjelaskan berkaitan ciri-ciri pentadbi
 ran koperasi sertaamalan pengurusan yang baik.\n\n\nMengaplikasikan pentad
 biran koperasi mengikut undang-undang.\n\n https://www.ikma.edu.my/en/takw
 im-program/event/69-pengurusan-dan-pentadbiran-koperasi-wajib-1
DTSTART:20250212T080000Z
DTEND:20250213T170000Z
LOCATION:Kampar ()
SUMMARY:Pengurusan Dan Pentadbiran Koperasi (Wajib 1)
URL:https://www.ikma.edu.my/en/takwim-program/event/69-pengurusan-dan-penta
 dbiran-koperasi-wajib-1
END:VEVENT
END:VCALENDAR
