BEGIN:VCALENDAR
VERSION:2.0
PRODID:-//https://www.ikma.edu.my///NONSGML kigkonsult.se iCalcreator 2.10.15//
METHOD:PUBLISH
BEGIN:VEVENT
UID:20260419T152121UTC-1553Ongbon@https://www.ikma.edu.my/
DTSTAMP:20260419T152121Z
DESCRIPTION:\n\nMeningkatkan kefahaman peserta berkaitan ketulenan emas bag
 i mengelakkan sebarang kes penipuan dan pemalsuan emas.\n\n\nMengaplikasik
 an teknik pengujian emas secara sistematik bagi mengurangkan risiko kerugi
 an kepada koperasi\n\n https://www.ikma.edu.my/en/takwim-program/event/66-
 akreditasi-penaksir-emas-ar-rahnu
DTSTART:20250204T080000Z
DTEND:20250205T170000Z
LOCATION:INSTITUT KOPERASI MALAYSIA\, PETALING JAYA  (INSTITUT KOPERASI MAL
 AYSIA\, PETALING JAYA )
SUMMARY:Akreditasi Penaksir Emas Ar-Rahnu 
URL:https://www.ikma.edu.my/en/takwim-program/event/66-akreditasi-penaksir-
 emas-ar-rahnu
END:VEVENT
END:VCALENDAR
