BEGIN:VCALENDAR
VERSION:2.0
PRODID:-//https://www.ikma.edu.my///NONSGML kigkonsult.se iCalcreator 2.10.15//
METHOD:PUBLISH
BEGIN:VEVENT
UID:20260419T151441UTC-2188JvRwT3@https://www.ikma.edu.my/
DTSTAMP:20260419T151441Z
DESCRIPTION:\nRujuk kepada brosur yang akan diedarkan kemudian.\n\n&nbsp\;
 \n&nbsp\;\n&nbsp\;\n&nbsp\; https://www.ikma.edu.my/en/takwim-program/even
 t/472-ceo-talk-melaka-z-selatan
DTSTART:20260409T080000Z
DTEND:20260409T170000Z
LOCATION:IKMa Melaka ()
SUMMARY:CEO TALK (MELAKA)- Z.SELATAN
URL:https://www.ikma.edu.my/en/takwim-program/event/472-ceo-talk-melaka-z-s
 elatan
END:VEVENT
END:VCALENDAR
