BEGIN:VCALENDAR
VERSION:2.0
PRODID:-//https://www.ikma.edu.my///NONSGML kigkonsult.se iCalcreator 2.10.15//
METHOD:PUBLISH
BEGIN:VEVENT
UID:20260419T133559UTC-9844azUDRf@https://www.ikma.edu.my/
DTSTAMP:20260419T133559Z
DESCRIPTION:\nMenjelaskan berkaitan ciri-ciri pentadbiran koperasi serta am
 alan pengurusan yang baik\nMengaplikasikan pentadbiran koperasi mengikut u
 ndang-undang\n\n&nbsp\;\n&nbsp\;\n&nbsp\;\n&nbsp\; https://www.ikma.edu.my
 /en/takwim-program/event/470-wajib-1-pengurusan-pentadbiran-koperasi-tawau
DTSTART:20260408T080000Z
DTEND:20260409T170000Z
LOCATION:IKMa Tawau ()
SUMMARY:WAJIB 1 PENGURUSAN & PENTADBIRAN KOPERASI @ TAWAU
URL:https://www.ikma.edu.my/en/takwim-program/event/470-wajib-1-pengurusan-
 pentadbiran-koperasi-tawau
END:VEVENT
END:VCALENDAR
