BEGIN:VCALENDAR
VERSION:2.0
PRODID:-//https://www.ikma.edu.my///NONSGML kigkonsult.se iCalcreator 2.10.15//
METHOD:PUBLISH
BEGIN:VEVENT
UID:20260425T231013UTC-6008uepsA7@https://www.ikma.edu.my/
DTSTAMP:20260425T231013Z
DESCRIPTION:\nMemahami konsep dan falsafah koperasi.\nMengaplikasi pengetah
 uan tentang kepentingan dan tanggungjawab anggota dalam koperasi.\n https:
 //www.ikma.edu.my/en/takwim-program/event/312-anggota-kekuatan-koperasi
DTSTART:20250826T080000Z
DTEND:20250826T170000Z
LOCATION:IKMa Kelantan ()
SUMMARY:Anggota Kekuatan Koperasi
URL:https://www.ikma.edu.my/en/takwim-program/event/312-anggota-kekuatan-ko
 perasi
END:VEVENT
END:VCALENDAR
