BEGIN:VCALENDAR
VERSION:2.0
PRODID:-//https://www.ikma.edu.my///NONSGML kigkonsult.se iCalcreator 2.10.15//
METHOD:PUBLISH
BEGIN:VEVENT
UID:20260425T214351UTC-5236lDxxsh@https://www.ikma.edu.my/
DTSTAMP:20260425T214351Z
DESCRIPTION:\nMenyenaraikan tanggungjawab ALK dalam pengurusan kewangan.\nM
 enjelaskan fungsi setiap penyata kewangan koperasi.\nMenerangkan aspek pen
 gurusan modal kerja koperasi.\n https://www.ikma.edu.my/en/takwim-program/
 event/305-pengurusan-kewangan-koperasi-wajib-2
DTSTART:20250825T080000Z
DTEND:20250826T170000Z
LOCATION:IKMa Zon Sarawak ()
SUMMARY:Pengurusan Kewangan Koperasi - Wajib 2
URL:https://www.ikma.edu.my/en/takwim-program/event/305-pengurusan-kewangan
 -koperasi-wajib-2
END:VEVENT
END:VCALENDAR
