BEGIN:VCALENDAR
VERSION:2.0
PRODID:-//https://www.ikma.edu.my///NONSGML kigkonsult.se iCalcreator 2.10.15//
METHOD:PUBLISH
BEGIN:VEVENT
UID:20260425T145457UTC-5040bVp9no@https://www.ikma.edu.my/
DTSTAMP:20260425T145457Z
DESCRIPTION:\nMengaplikasi maklumat perundangan berkaitan perniagaan kopera
 si.\nMenganalisa dan membuat perbandingan kes undang undang yang releven b
 erkaitan dengan perniagaan koperasi.\n https://www.ikma.edu.my/en/takwim-p
 rogram/event/299-undang-undang-berkaitan-perniagaan-koperasi
DTSTART:20250819T080000Z
DTEND:20250821T170000Z
LOCATION:IKMa PETALING JAYA (IKMa PETALING JAYA)
SUMMARY:Undang - Undang Berkaitan Perniagaan Koperasi
URL:https://www.ikma.edu.my/en/takwim-program/event/299-undang-undang-berka
 itan-perniagaan-koperasi
END:VEVENT
END:VCALENDAR
