BEGIN:VCALENDAR
VERSION:2.0
PRODID:-//https://www.ikma.edu.my///NONSGML kigkonsult.se iCalcreator 2.10.15//
METHOD:PUBLISH
BEGIN:VEVENT
UID:20260425T123653UTC-1025VLKL46@https://www.ikma.edu.my/
DTSTAMP:20260425T123653Z
DESCRIPTION:\nMenjelaskan peranan dan tanggungjawab Jawatankuasa Audit Dala
 man Koperasi.\nMengenal pasti proses dan kaedah melaksanakan kerja audit d
 alaman menggunakan tatacara yang sistematik.\n https://www.ikma.edu.my/en/
 takwim-program/event/293-pengurusan-dan-pentadbiran-koperasi-wajib-1
DTSTART:20250817T080000Z
DTEND:20250818T170000Z
LOCATION:IKMa Zon Selatan ()
SUMMARY:Pengurusan dan Pentadbiran Koperasi (Wajib 1)
URL:https://www.ikma.edu.my/en/takwim-program/event/293-pengurusan-dan-pent
 adbiran-koperasi-wajib-1
END:VEVENT
END:VCALENDAR
