BEGIN:VCALENDAR
VERSION:2.0
PRODID:-//https://www.ikma.edu.my///NONSGML kigkonsult.se iCalcreator 2.10.15//
METHOD:PUBLISH
BEGIN:VEVENT
UID:20260424T141700UTC-55255cjGIZ@https://www.ikma.edu.my/
DTSTAMP:20260424T141700Z
DESCRIPTION:\nMenjelaskan berkaitan ciri-ciri pentadbiran koperasi serta am
 alan pengurusan yang baik\; \nMengaplikasikan pentadbiran koperasi mengiku
 t undang-undang.\n https://www.ikma.edu.my/en/takwim-program/event/282-pen
 gurusan-dan-pentadbiran-koperasi-wajib-1
DTSTART:20250806T080000Z
DTEND:20250807T170000Z
LOCATION:IKMa Zon Timur ()
SUMMARY:Pengurusan dan Pentadbiran Koperasi (Wajib 1)
URL:https://www.ikma.edu.my/en/takwim-program/event/282-pengurusan-dan-pent
 adbiran-koperasi-wajib-1
END:VEVENT
END:VCALENDAR
