BEGIN:VCALENDAR
VERSION:2.0
PRODID:-//https://www.ikma.edu.my///NONSGML kigkonsult.se iCalcreator 2.10.15//
METHOD:PUBLISH
BEGIN:VEVENT
UID:20260424T153808UTC-28316clBdO@https://www.ikma.edu.my/
DTSTAMP:20260424T153808Z
DESCRIPTION:\nMenjelaskan peranan dan tanggungjawab Jawatankuasa Audit Dala
 man Koperasi.\nMengenal pasti proses dan kaedah melaksanakan kerja audit d
 alaman menggunakan tatacara yang sistematik.\n https://www.ikma.edu.my/en/
 takwim-program/event/281-wajib-jad-tatacara-pengauditan-dan-perakaunan-kop
 erasi
DTSTART:20250806T080000Z
DTEND:20250807T170000Z
LOCATION:IKMa Zon Sabah (Institut Koperasi Malaysia (IKMa) Zon Sabah)
SUMMARY:Wajib JAD: Tatacara Pengauditan dan Perakaunan Koperasi
URL:https://www.ikma.edu.my/en/takwim-program/event/281-wajib-jad-tatacara-
 pengauditan-dan-perakaunan-koperasi
END:VEVENT
END:VCALENDAR
