BEGIN:VCALENDAR
VERSION:2.0
PRODID:-//https://www.ikma.edu.my///NONSGML kigkonsult.se iCalcreator 2.10.15//
METHOD:PUBLISH
BEGIN:VEVENT
UID:20260424T124651UTC-2635aWJkmt@https://www.ikma.edu.my/
DTSTAMP:20260424T124651Z
DESCRIPTION:\nMenjelaskan peranan dan tanggungjawab Jawatankuasa Audit Dala
 man Koperasi.\nMengenal pasti proses dan kaedah melaksanakan kerja audit d
 alaman menggunakan tatacara yang sistematik.\n https://www.ikma.edu.my/en/
 takwim-program/event/279-tatacara-pengauditan-dan-perakaunan-koperasi-waji
 b-jad
DTSTART:20250805T080000Z
DTEND:20250806T170000Z
LOCATION:IKMa Sibu ()
SUMMARY:Tatacara Pengauditan dan Perakaunan Koperasi (Wajib JAD) 
URL:https://www.ikma.edu.my/en/takwim-program/event/279-tatacara-pengaudita
 n-dan-perakaunan-koperasi-wajib-jad
END:VEVENT
END:VCALENDAR
