BEGIN:VCALENDAR
VERSION:2.0
PRODID:-//https://www.ikma.edu.my///NONSGML kigkonsult.se iCalcreator 2.10.15//
METHOD:PUBLISH
BEGIN:VEVENT
UID:20260424T004808UTC-7788mPv2CL@https://www.ikma.edu.my/
DTSTAMP:20260424T004808Z
DESCRIPTION:\nPeserta dapat meningkatkan kefahaman tentang kaedah penggunaa
 n Dashboard untuk analisis data koperasi\, serta membangunkan Dashboard ya
 ng berkesan untuk menganalisis dan membuat keputusan berdasarkan data kope
 rasi secara lebih efisien dan informatif.\n https://www.ikma.edu.my/en/tak
 wim-program/event/269-data-untuk-keputusan-bijak-analisis-strategik-bagi-k
 operasi
DTSTART:20250729T080000Z
DTEND:20250730T170000Z
LOCATION:IKMa PETALING JAYA (IKMa PETALING JAYA)
SUMMARY:DATA UNTUK KEPUTUSAN BIJAK: ANALISIS STRATEGIK BAGI KOPERASI
URL:https://www.ikma.edu.my/en/takwim-program/event/269-data-untuk-keputusa
 n-bijak-analisis-strategik-bagi-koperasi
END:VEVENT
END:VCALENDAR
