BEGIN:VCALENDAR
VERSION:2.0
PRODID:-//https://www.ikma.edu.my///NONSGML kigkonsult.se iCalcreator 2.10.15//
METHOD:PUBLISH
BEGIN:VEVENT
UID:20260423T150418UTC-8284ukJEif@https://www.ikma.edu.my/
DTSTAMP:20260423T150418Z
DESCRIPTION:\nMenjelaskan berkaitan ciri-ciri pentadbiran koperasi serta am
 alan pengurusan yang baik\; \nMengaplikasikan pentadbiran koperasi mengiku
 t undang-undang.\n https://www.ikma.edu.my/en/takwim-program/event/257-waj
 ib-1-pengurusan-dan-pentadbiran-koperasi
DTSTART:20250722T080000Z
DTEND:20250723T170000Z
LOCATION:IKMa Zon Sabah (Institut Koperasi Malaysia (IKMa) Zon Sabah)
SUMMARY:Wajib 1: Pengurusan dan Pentadbiran Koperasi
URL:https://www.ikma.edu.my/en/takwim-program/event/257-wajib-1-pengurusan-
 dan-pentadbiran-koperasi
END:VEVENT
END:VCALENDAR
