BEGIN:VCALENDAR
VERSION:2.0
PRODID:-//https://www.ikma.edu.my///NONSGML kigkonsult.se iCalcreator 2.10.15//
METHOD:PUBLISH
BEGIN:VEVENT
UID:20260423T150419UTC-05906g7zd5@https://www.ikma.edu.my/
DTSTAMP:20260423T150419Z
DESCRIPTION:\nMenjelaskan berkaitan ciri-ciri pentadbiran koperasi serta am
 alan pengurusan yang baik\;\nMengaplikasikan pentadbiran koperasi mengikut
  undang-undang.\n https://www.ikma.edu.my/en/takwim-program/event/256-peng
 urusan-dan-pentadbiran-koperasi-wajib-1
DTSTART:20250722T080000Z
DTEND:20250723T170000Z
LOCATION:IKMa Marang ()
SUMMARY:Pengurusan dan Pentadbiran Koperasi (Wajib 1)
URL:https://www.ikma.edu.my/en/takwim-program/event/256-pengurusan-dan-pent
 adbiran-koperasi-wajib-1
END:VEVENT
END:VCALENDAR
