BEGIN:VCALENDAR
VERSION:2.0
PRODID:-//https://www.ikma.edu.my///NONSGML kigkonsult.se iCalcreator 2.10.15//
METHOD:PUBLISH
BEGIN:VEVENT
UID:20260423T033125UTC-4507AH3iBb@https://www.ikma.edu.my/
DTSTAMP:20260423T033125Z
DESCRIPTION:\n* Rujuk kepada brosur yang akan diedarkan kemudian\n https://
 www.ikma.edu.my/en/takwim-program/event/254-bicara-ilmu
DTSTART:20250716T080000Z
DTEND:20250717T170000Z
LOCATION:IKMa Lumut\, Perak ()
SUMMARY:BICARA ILMU
URL:https://www.ikma.edu.my/en/takwim-program/event/254-bicara-ilmu
END:VEVENT
END:VCALENDAR
