BEGIN:VCALENDAR
VERSION:2.0
PRODID:-//https://www.ikma.edu.my///NONSGML kigkonsult.se iCalcreator 2.10.15//
METHOD:PUBLISH
BEGIN:VEVENT
UID:20260423T133955UTC-8996SJP1SL@https://www.ikma.edu.my/
DTSTAMP:20260423T133955Z
DESCRIPTION:\nMembangun\, menyimpan data serta mengurus transaksi perakauna
 n koperasi menggunakan aplikasi MS Excel.\n https://www.ikma.edu.my/en/tak
 wim-program/event/246-perakaunan-asas-menggunakan-ms-excel
DTSTART:20250715T080000Z
DTEND:20250717T170000Z
LOCATION:IKMa Bintulu ()
SUMMARY:PERAKAUNAN ASAS MENGGUNAKAN MS (EXCEL)
URL:https://www.ikma.edu.my/en/takwim-program/event/246-perakaunan-asas-men
 ggunakan-ms-excel
END:VEVENT
END:VCALENDAR
