BEGIN:VCALENDAR
VERSION:2.0
PRODID:-//https://www.ikma.edu.my///NONSGML kigkonsult.se iCalcreator 2.10.15//
METHOD:PUBLISH
BEGIN:VEVENT
UID:20260423T004248UTC-0563S0dLXZ@https://www.ikma.edu.my/
DTSTAMP:20260423T004248Z
DESCRIPTION:\nMenyenaraikan tanggungjawab ALK dalam pengurusan kewangan.\nM
 enjelaskan fungsi setiap penyata kewangan koperasi\nMenerangkan aspek peng
 urusan modal kerja koperasi.\n https://www.ikma.edu.my/en/takwim-program/e
 vent/245-pengurusan-kewangan-koperasi-wajib-2
DTSTART:20250714T080000Z
DTEND:20250715T170000Z
LOCATION:IKMa Pulau Pinang ()
SUMMARY:Pengurusan Kewangan Koperasi (Wajib 2)
URL:https://www.ikma.edu.my/en/takwim-program/event/245-pengurusan-kewangan
 -koperasi-wajib-2
END:VEVENT
END:VCALENDAR
