BEGIN:VCALENDAR
VERSION:2.0
PRODID:-//https://www.ikma.edu.my///NONSGML kigkonsult.se iCalcreator 2.10.15//
METHOD:PUBLISH
BEGIN:VEVENT
UID:20260422T142136UTC-1098Kt7Iv8@https://www.ikma.edu.my/
DTSTAMP:20260422T142136Z
DESCRIPTION:\nMengenal pasti hala tuju\, konsep dan proses-proses penting d
 alam pengurusan strategik.\n https://www.ikma.edu.my/en/takwim-program/eve
 nt/237-pengurusan-strategik-wajib-3
DTSTART:20250708T080000Z
DTEND:20250709T170000Z
LOCATION:IKMa Setiu ()
SUMMARY:Pengurusan Strategik (Wajib 3)
URL:https://www.ikma.edu.my/en/takwim-program/event/237-pengurusan-strategi
 k-wajib-3
END:VEVENT
END:VCALENDAR
