BEGIN:VCALENDAR
VERSION:2.0
PRODID:-//https://www.ikma.edu.my///NONSGML kigkonsult.se iCalcreator 2.10.15//
METHOD:PUBLISH
BEGIN:VEVENT
UID:20260422T090756UTC-3904xw1VDM@https://www.ikma.edu.my/
DTSTAMP:20260422T090756Z
DESCRIPTION:\nMengenal pasti hala tuju\, konsep dan proses-proses penting d
 alam pengurusan strategik.\n https://www.ikma.edu.my/en/takwim-program/eve
 nt/234-pengurusan-strategik-wajib-3
DTSTART:20250706T080000Z
DTEND:20250707T170000Z
LOCATION:IKMa Keningau\, Sabah ()
SUMMARY:Pengurusan Strategik (Wajib 3)
URL:https://www.ikma.edu.my/en/takwim-program/event/234-pengurusan-strategi
 k-wajib-3
END:VEVENT
END:VCALENDAR
