BEGIN:VCALENDAR
VERSION:2.0
PRODID:-//https://www.ikma.edu.my///NONSGML kigkonsult.se iCalcreator 2.10.15//
METHOD:PUBLISH
BEGIN:VEVENT
UID:20260422T043533UTC-2205cg80C4@https://www.ikma.edu.my/
DTSTAMP:20260422T043533Z
DESCRIPTION:\n* Rujuk kepada brosur yang akan diedarkan kemudian\n https://
 www.ikma.edu.my/en/takwim-program/event/233-seminar-penyelidikan-koperasi
DTSTART:20250703T080000Z
DTEND:20250704T170000Z
LOCATION:Tempat akan ditentukan kemudian ()
SUMMARY:Seminar Penyelidikan Koperasi
URL:https://www.ikma.edu.my/en/takwim-program/event/233-seminar-penyelidika
 n-koperasi
END:VEVENT
END:VCALENDAR
