BEGIN:VCALENDAR
VERSION:2.0
PRODID:-//https://www.ikma.edu.my///NONSGML kigkonsult.se iCalcreator 2.10.15//
METHOD:PUBLISH
BEGIN:VEVENT
UID:20260422T025952UTC-6923pfa47u@https://www.ikma.edu.my/
DTSTAMP:20260422T025952Z
DESCRIPTION:\n* Rujuk kepada brosur yang akan diedarkan kemudian\n https://
 www.ikma.edu.my/en/takwim-program/event/232-bual-bicara-belia
DTSTART:20250702T080000Z
DTEND:20250702T170000Z
LOCATION:Dalam Talian (Dalam Talian (Online))
SUMMARY:Bual Bicara Belia
URL:https://www.ikma.edu.my/en/takwim-program/event/232-bual-bicara-belia
END:VEVENT
END:VCALENDAR
