BEGIN:VCALENDAR
VERSION:2.0
PRODID:-//https://www.ikma.edu.my///NONSGML kigkonsult.se iCalcreator 2.10.15//
METHOD:PUBLISH
BEGIN:VEVENT
UID:20260422T030634UTC-1450lulHut@https://www.ikma.edu.my/
DTSTAMP:20260422T030634Z
DESCRIPTION:\nMenjelaskan berkaitan ciri-ciri pentadbiran koperasi serta am
 alan pengurusan yang baik\;\nMengaplikasikan pentadbiran koperasi mengikut
  undang-undang.\n https://www.ikma.edu.my/en/takwim-program/event/231-peng
 urusan-dan-pentadbiran-koperasi-wajib-1
DTSTART:20250702T080000Z
DTEND:20250703T170000Z
LOCATION:IKMa PETALING JAYA (IKMa PETALING JAYA)
SUMMARY:Pengurusan dan Pentadbiran Koperasi (Wajib 1)
URL:https://www.ikma.edu.my/en/takwim-program/event/231-pengurusan-dan-pent
 adbiran-koperasi-wajib-1
END:VEVENT
END:VCALENDAR
