BEGIN:VCALENDAR
VERSION:2.0
PRODID:-//https://www.ikma.edu.my///NONSGML kigkonsult.se iCalcreator 2.10.15//
METHOD:PUBLISH
BEGIN:VEVENT
UID:20260422T014243UTC-6901XsOZC7@https://www.ikma.edu.my/
DTSTAMP:20260422T014243Z
DESCRIPTION:\nMenerangkan konsep dan mekanisme berkaitan tadbir urus kopera
 si.\nMengaplikasikan pengetahuan berkaitan tadbir urus koperasi.\nMembangu
 nkan satu piawaian tadbir urus koperasi yang mantap.\n https://www.ikma.ed
 u.my/en/takwim-program/event/229-wajib-plus-tadbir-urus-koperasi
DTSTART:20250701T080000Z
DTEND:20250702T170000Z
LOCATION:IKMa Tamarind Square\, Cyberjaya ()
SUMMARY:Wajib Plus - Tadbir Urus Koperasi
URL:https://www.ikma.edu.my/en/takwim-program/event/229-wajib-plus-tadbir-u
 rus-koperasi
END:VEVENT
END:VCALENDAR
