BEGIN:VCALENDAR
VERSION:2.0
PRODID:-//https://www.ikma.edu.my///NONSGML kigkonsult.se iCalcreator 2.10.15//
METHOD:PUBLISH
BEGIN:VEVENT
UID:20260422T030705UTC-7402bN4KJ6@https://www.ikma.edu.my/
DTSTAMP:20260422T030705Z
DESCRIPTION:\nMenjelaskan berkaitan ciri-ciri pentadbiran koperasi serta am
 alan pengurusan yang baik\; \nMengaplikasikan pentadbiran koperasi mengiku
 t undang-undang.\n https://www.ikma.edu.my/en/takwim-program/event/228-pen
 gurusan-dan-pentadbiran-koperasi-wajib-1
DTSTART:20250701T080000Z
DTEND:20250702T170000Z
LOCATION:IKMa Muar\, Johor Bahru ()
SUMMARY:Pengurusan dan Pentadbiran Koperasi (Wajib 1)
URL:https://www.ikma.edu.my/en/takwim-program/event/228-pengurusan-dan-pent
 adbiran-koperasi-wajib-1
END:VEVENT
END:VCALENDAR
