BEGIN:VCALENDAR
VERSION:2.0
PRODID:-//https://www.ikma.edu.my///NONSGML kigkonsult.se iCalcreator 2.10.15//
METHOD:PUBLISH
BEGIN:VEVENT
UID:20260422T014134UTC-32402F8625@https://www.ikma.edu.my/
DTSTAMP:20260422T014134Z
DESCRIPTION:\nPeserta dapat memahami fungsi utama aplikasi lembaran elektro
 nik Microsoft Excel\, serta meningkatkan kemahiran menggunakan Excel dalam
  memudahkan pengiraan\, memanipulasi\, dan menganalisis maklumat secara le
 bih efisien dan efektif.\n https://www.ikma.edu.my/en/takwim-program/event
 /226-kuasai-excel-untuk-pengurusan-data
DTSTART:20250701T080000Z
DTEND:20250702T170000Z
LOCATION:IKMa PETALING JAYA (IKMa PETALING JAYA)
SUMMARY:KUASAI EXCEL UNTUK PENGURUSAN DATA
URL:https://www.ikma.edu.my/en/takwim-program/event/226-kuasai-excel-untuk-
 pengurusan-data
END:VEVENT
END:VCALENDAR
