BEGIN:VCALENDAR
VERSION:2.0
PRODID:-//https://www.ikma.edu.my///NONSGML kigkonsult.se iCalcreator 2.10.15//
METHOD:PUBLISH
BEGIN:VEVENT
UID:20260421T140937UTC-0908NmR2mR@https://www.ikma.edu.my/
DTSTAMP:20260421T140937Z
DESCRIPTION:\n* Rujuk kepada brosur yang diedarkan kemudian\n https://www.i
 kma.edu.my/en/takwim-program/event/223-program-kesedaran-esg-amalan-enviro
 nmental-social-dan-governance-dalam-perniagaan
DTSTART:20250624T080000Z
DTEND:20250624T170000Z
LOCATION:Dalam Talian (Dalam Talian (Online))
SUMMARY:Program Kesedaran ESG- Amalan Environmental\, Social dan Governance
  Dalam Perniagaan
URL:https://www.ikma.edu.my/en/takwim-program/event/223-program-kesedaran-e
 sg-amalan-environmental-social-dan-governance-dalam-perniagaan
END:VEVENT
END:VCALENDAR
