BEGIN:VCALENDAR
VERSION:2.0
PRODID:-//https://www.ikma.edu.my///NONSGML kigkonsult.se iCalcreator 2.10.15//
METHOD:PUBLISH
BEGIN:VEVENT
UID:20260421T140037UTC-72315ofDGg@https://www.ikma.edu.my/
DTSTAMP:20260421T140037Z
DESCRIPTION:\nMenyediakan minit mesyuarat mengikut format yang praktikal da
 n berkesan.\nMenjadi sumber rujukan dan penyumbang kepada kejayaan sesuatu
  mesyuarat.atik.\n https://www.ikma.edu.my/en/takwim-program/event/222-tek
 nik-penulisan-minit-mesyuarat
DTSTART:20250624T080000Z
DTEND:20250624T170000Z
LOCATION:IKMa PETALING JAYA (IKMa PETALING JAYA)
SUMMARY:Teknik Penulisan Minit Mesyuarat
URL:https://www.ikma.edu.my/en/takwim-program/event/222-teknik-penulisan-mi
 nit-mesyuarat
END:VEVENT
END:VCALENDAR
