BEGIN:VCALENDAR
VERSION:2.0
PRODID:-//https://www.ikma.edu.my///NONSGML kigkonsult.se iCalcreator 2.10.15//
METHOD:PUBLISH
BEGIN:VEVENT
UID:20260421T140646UTC-0419bA325g@https://www.ikma.edu.my/
DTSTAMP:20260421T140646Z
DESCRIPTION:\nMenerangkan format dan konsep peruncitan.\nMenganalisa\, memi
 lih atau mencadangkan senarai produk untuk jualan pasar mini.\nMenyenaraik
 an keperluan pembangunan pasar mini.\nMerangka terma kontrak &amp\; pembek
 alan produk jualan dengan pembekal.\n https://www.ikma.edu.my/en/takwim-pr
 ogram/event/219-s-m-a-r-t-peruncitan-pengurusan-operasi-pasar-mini
DTSTART:20250624T080000Z
DTEND:20250625T170000Z
LOCATION:IKMa Kuala Terengganu ()
SUMMARY:S.M.A.R.T Peruncitan (Pengurusan & Operasi Pasar Mini)
URL:https://www.ikma.edu.my/en/takwim-program/event/219-s-m-a-r-t-peruncita
 n-pengurusan-operasi-pasar-mini
END:VEVENT
END:VCALENDAR
