BEGIN:VCALENDAR
VERSION:2.0
PRODID:-//https://www.ikma.edu.my///NONSGML kigkonsult.se iCalcreator 2.10.15//
METHOD:PUBLISH
BEGIN:VEVENT
UID:20260421T153357UTC-2205i5AzhB@https://www.ikma.edu.my/
DTSTAMP:20260421T153357Z
DESCRIPTION:\nMenghasilkan video yang menarik untuk pemasaran dengan menggu
 nakan smartphone.\nMengaplikasi teknik video pemasaran viral di media sosi
 al.\n https://www.ikma.edu.my/en/takwim-program/event/213-tips-trik-pengga
 mbaran-video-profesional-dengan-smartphone
DTSTART:20250624T080000Z
DTEND:20250626T170000Z
LOCATION:IKMa Zon Sabah (Institut Koperasi Malaysia (IKMa) Zon Sabah)
SUMMARY:Tips & Trik Penggambaran Video Profesional Dengan Smartphone
URL:https://www.ikma.edu.my/en/takwim-program/event/213-tips-trik-penggamba
 ran-video-profesional-dengan-smartphone
END:VEVENT
END:VCALENDAR
