BEGIN:VCALENDAR
VERSION:2.0
PRODID:-//https://www.ikma.edu.my///NONSGML kigkonsult.se iCalcreator 2.10.15//
METHOD:PUBLISH
BEGIN:VEVENT
UID:20260421T011555UTC-39222pl8vg@https://www.ikma.edu.my/
DTSTAMP:20260421T011555Z
DESCRIPTION:\nMengenal pasti hala tuju\, konsep dan proses-proses penting d
 alam pengurusan strategik.\n https://www.ikma.edu.my/en/takwim-program/eve
 nt/196-wajib-3-pengurusan-strategik
DTSTART:20250616T080000Z
DTEND:20250617T170000Z
LOCATION:IKMa PETALING JAYA (IKMa PETALING JAYA)
SUMMARY:Wajib 3 - Pengurusan Strategik
URL:https://www.ikma.edu.my/en/takwim-program/event/196-wajib-3-pengurusan-
 strategik
END:VEVENT
END:VCALENDAR
