BEGIN:VCALENDAR
VERSION:2.0
PRODID:-//https://www.ikma.edu.my///NONSGML kigkonsult.se iCalcreator 2.10.15//
METHOD:PUBLISH
BEGIN:VEVENT
UID:20260421T011723UTC-9670uLMShS@https://www.ikma.edu.my/
DTSTAMP:20260421T011723Z
DESCRIPTION:\nMenjelaskan konsep dan prinsip dalam perakaunan.\nMengenal pa
 sti dokumen dan buku-buku akaun yang perlu disimpan oleh koperasi.\nMenget
 ahui proses merekodkan urus niaga koperasi dengan cara yang betul dan tera
 tur dan menyediakan laporan kewangan berkaitan.\n https://www.ikma.edu.my/
 en/takwim-program/event/195-perakaunan-asas-koperasi
DTSTART:20250616T080000Z
DTEND:20250619T170000Z
LOCATION:IKMa PETALING JAYA (IKMa PETALING JAYA)
SUMMARY:Perakaunan Asas Koperasi
URL:https://www.ikma.edu.my/en/takwim-program/event/195-perakaunan-asas-kop
 erasi
END:VEVENT
END:VCALENDAR
