BEGIN:VCALENDAR
VERSION:2.0
PRODID:-//https://www.ikma.edu.my///NONSGML kigkonsult.se iCalcreator 2.10.15//
METHOD:PUBLISH
BEGIN:VEVENT
UID:20260419T135531UTC-4695Xv3Gtx@https://www.ikma.edu.my/
DTSTAMP:20260419T135531Z
DESCRIPTION:\nMenjelaskan peranan dan tanggungjawab Jawatankuasa Audit Dala
 man Koperasi.\nMengenal pasti proses dan kaedah melaksanakan kerja audit d
 alaman menggunakan tatacara yang sistematik.\n https://www.ikma.edu.my/en/
 takwim-program/event/184-tatacara-pengauditan-dan-perakaunan-koperasi-waji
 b-jad
DTSTART:20250527T080000Z
DTEND:20250528T170000Z
LOCATION:IKMa Cawangan Kuala Terengganu ()
SUMMARY:Tatacara Pengauditan dan Perakaunan Koperasi (Wajib JAD)
URL:https://www.ikma.edu.my/en/takwim-program/event/184-tatacara-pengaudita
 n-dan-perakaunan-koperasi-wajib-jad
END:VEVENT
END:VCALENDAR
