BEGIN:VCALENDAR
VERSION:2.0
PRODID:-//https://www.ikma.edu.my///NONSGML kigkonsult.se iCalcreator 2.10.15//
METHOD:PUBLISH
BEGIN:VEVENT
UID:20260420T111550UTC-8452SJ7eAp@https://www.ikma.edu.my/
DTSTAMP:20260420T111550Z
DESCRIPTION:\nMenjelaskan berkaitan ciri-ciri pentadbiran koperasi serta am
 alan pengurusan yang baik\;\nMengaplikasikan pentadbiran koperasi mengikut
  undang-undang.\n https://www.ikma.edu.my/en/takwim-program/event/150-peng
 urusan-dan-pentadbiran-koperasi-wajib-1
DTSTART:20250507T080000Z
DTEND:20250508T170000Z
LOCATION:IKMa Kota Bharu Kelantan ()
SUMMARY:Pengurusan Dan Pentadbiran Koperasi (Wajib 1)
URL:https://www.ikma.edu.my/en/takwim-program/event/150-pengurusan-dan-pent
 adbiran-koperasi-wajib-1
END:VEVENT
END:VCALENDAR
