BEGIN:VCALENDAR
VERSION:2.0
PRODID:-//https://www.ikma.edu.my///NONSGML kigkonsult.se iCalcreator 2.10.15//
METHOD:PUBLISH
BEGIN:VEVENT
UID:20260422T131923UTC-8214fDUlHW@https://www.ikma.edu.my/
DTSTAMP:20260422T131923Z
DESCRIPTION:\nMeningkatkan kefahaman peserta berkaitan prinsip-prinsip syar
 iah dalam aktiviti Ar-Rahnu.\nMengaplikasikan prinsip-prinsip syariah yang
  diguna pakai dalam urusan perniagaan Ar-Rahnu.\n https://www.ikma.edu.my/
 en/takwim-program/event/145-pematuhan-syariah-ar-rahnu-d
DTSTART:20250506T080000Z
DTEND:20250507T170000Z
LOCATION:IKMa PETALING JAYA (IKMa PETALING JAYA)
SUMMARY:Pematuhan Syariah Ar-Rahnu (D)
URL:https://www.ikma.edu.my/en/takwim-program/event/145-pematuhan-syariah-a
 r-rahnu-d
END:VEVENT
END:VCALENDAR
