BEGIN:VCALENDAR
VERSION:2.0
PRODID:-//https://www.ikma.edu.my///NONSGML kigkonsult.se iCalcreator 2.10.15//
METHOD:PUBLISH
BEGIN:VEVENT
UID:20260422T114825UTC-4612RF33wM@https://www.ikma.edu.my/
DTSTAMP:20260422T114825Z
DESCRIPTION:\nMemahami konsep cukai koperasi.\nMentaksirkan dan melaksanaka
 n peruntukan cukai koperasi.\nMenyediakan penyata kewangan bercukai merang
 kumi pendapatan pelarasan\,pendapatan berkanun dan tuntutan elaun dibenark
 an.\n https://www.ikma.edu.my/en/takwim-program/event/143-pengiraan-cukai-
 koperasi
DTSTART:20250506T080000Z
DTEND:20250507T170000Z
LOCATION:IKMa PETALING JAYA (IKMa PETALING JAYA)
SUMMARY:Pengiraan Cukai Koperasi
URL:https://www.ikma.edu.my/en/takwim-program/event/143-pengiraan-cukai-kop
 erasi
END:VEVENT
END:VCALENDAR
