BEGIN:VCALENDAR
VERSION:2.0
PRODID:-//https://www.ikma.edu.my///NONSGML kigkonsult.se iCalcreator 2.10.15//
METHOD:PUBLISH
BEGIN:VEVENT
UID:20260422T130620UTC-7248LiusCz@https://www.ikma.edu.my/
DTSTAMP:20260422T130620Z
DESCRIPTION:\nMengenal pasti hala tuju\, konsep dan proses-proses penting d
 alam pengurusan strategik\n https://www.ikma.edu.my/en/takwim-program/even
 t/139-pengurusan-strategik-wajib-3
DTSTART:20250505T080000Z
DTEND:20250506T170000Z
LOCATION:IKMa Cawangan Kuala Terengganu ()
SUMMARY:Pengurusan Strategik (Wajib 3)
URL:https://www.ikma.edu.my/en/takwim-program/event/139-pengurusan-strategi
 k-wajib-3
END:VEVENT
END:VCALENDAR
