BEGIN:VCALENDAR
VERSION:2.0
PRODID:-//https://www.ikma.edu.my///NONSGML kigkonsult.se iCalcreator 2.10.15//
METHOD:PUBLISH
BEGIN:VEVENT
UID:20260422T215226UTC-7511tpWzFj@https://www.ikma.edu.my/
DTSTAMP:20260422T215226Z
DESCRIPTION:\nMemahami kepentingan penubuhan koperasi dan manfaatnya berdas
 arkan undang-undang\, prinsip dan falsafah koperasi.\n https://www.ikma.ed
 u.my/en/takwim-program/event/131-asas-mengurus-koperasi-baharu
DTSTART:20250429T080000Z
DTEND:20250430T170000Z
LOCATION:IKMa Lawas ()
SUMMARY:ASAS MENGURUS KOPERASI BAHARU
URL:https://www.ikma.edu.my/en/takwim-program/event/131-asas-mengurus-koper
 asi-baharu
END:VEVENT
END:VCALENDAR
