BEGIN:VCALENDAR
VERSION:2.0
PRODID:-//https://www.ikma.edu.my///NONSGML kigkonsult.se iCalcreator 2.10.15//
METHOD:PUBLISH
BEGIN:VEVENT
UID:20260423T101748UTC-5602tnBPIi@https://www.ikma.edu.my/
DTSTAMP:20260423T101748Z
DESCRIPTION:\n* Rujuk kepada brosur yang akan diedarkan kemudian\n https://
 www.ikma.edu.my/en/takwim-program/event/124-bicara-ilmu-sektor-keberhasila
 n
DTSTART:20250423T080000Z
DTEND:20250423T170000Z
LOCATION:Tempat akan ditentukan kemudian ()
SUMMARY:Bicara Ilmu Sektor Keberhasilan
URL:https://www.ikma.edu.my/en/takwim-program/event/124-bicara-ilmu-sektor-
 keberhasilan
END:VEVENT
END:VCALENDAR
