BEGIN:VCALENDAR
VERSION:2.0
PRODID:-//https://www.ikma.edu.my///NONSGML kigkonsult.se iCalcreator 2.10.15//
METHOD:PUBLISH
BEGIN:VEVENT
UID:20260423T215147UTC-7491DOJCPf@https://www.ikma.edu.my/
DTSTAMP:20260423T215147Z
DESCRIPTION:\nMengenal pasti hala tuju\, konsep dan proses-proses penting d
 alam pengurusan strategik\n https://www.ikma.edu.my/en/takwim-program/even
 t/103-pengurusan-strategik-wajib-3
DTSTART:20250414T080000Z
DTEND:20250415T170000Z
LOCATION:IKMa Zon Sarawak ()
SUMMARY:Pengurusan Strategik (Wajib 3)
URL:https://www.ikma.edu.my/en/takwim-program/event/103-pengurusan-strategi
 k-wajib-3
END:VEVENT
END:VCALENDAR
