BEGIN:VCALENDAR
VERSION:2.0
PRODID:-//https://www.ikma.edu.my///NONSGML kigkonsult.se iCalcreator 2.10.15//
METHOD:PUBLISH
BEGIN:VEVENT
UID:20260423T202315UTC-2101cJm4n3@https://www.ikma.edu.my/
DTSTAMP:20260423T202315Z
DESCRIPTION:\nMenerangkan konsep\, teknik menyenggara rekod dan teknik peng
 urusan dokumen secara online.\n https://www.ikma.edu.my/en/takwim-program/
 event/101-pengurusan-rekod-dan-fail-yang-efektif
DTSTART:20250414T080000Z
DTEND:20250416T170000Z
LOCATION:IKMa PETALING JAYA (IKMa PETALING JAYA)
SUMMARY:Pengurusan Rekod Dan Fail Yang Efektif
URL:https://www.ikma.edu.my/en/takwim-program/event/101-pengurusan-rekod-da
 n-fail-yang-efektif
END:VEVENT
END:VCALENDAR
