BEGIN:VCALENDAR
VERSION:2.0
PRODID:-//https://www.ikma.edu.my///NONSGML kigkonsult.se iCalcreator 2.10.15//
METHOD:PUBLISH
BEGIN:VEVENT
UID:20260423T185925UTC-90070kUVzU@https://www.ikma.edu.my/
DTSTAMP:20260423T185925Z
DESCRIPTION:\nMenjelaskan konsep dan prinsip dalam perakaunan.\nMengenal pa
 sti dokumen dan buku-buku akaun yang perlu disimpan oleh koperasi.\nMenget
 ahui proses merekodkan urus niaga koperasi dengan cara yang betul danterat
 ur dan menyediakan laporan kewangan berkaitan.\n https://www.ikma.edu.my/e
 n/takwim-program/event/100-perakaunan-asas-koperasi
DTSTART:20250414T080000Z
DTEND:20250417T170000Z
LOCATION:IKMa Zon Timur ()
SUMMARY:Perakaunan Asas Koperasi
URL:https://www.ikma.edu.my/en/takwim-program/event/100-perakaunan-asas-kop
 erasi
END:VEVENT
END:VCALENDAR
