BEGIN:VCALENDAR
VERSION:2.0
PRODID:-//https://www.ikma.edu.my///NONSGML kigkonsult.se iCalcreator 2.10.15//
METHOD:PUBLISH
BEGIN:VEVENT
UID:20260423T232042UTC-47970zIhV3@https://www.ikma.edu.my/
DTSTAMP:20260423T232042Z
DESCRIPTION:Seminar https://www.ikma.edu.my/en/takwim-program/event/548-sem
 inar-ppk
DTSTART:20261126T080000Z
DTEND:20261126T170000Z
LOCATION:Tempat akan ditentukan kemudian ()
SUMMARY:SEMINAR -PPK
URL:https://www.ikma.edu.my/en/takwim-program/event/548-seminar-ppk
END:VEVENT
END:VCALENDAR
