BEGIN:VCALENDAR
VERSION:2.0
PRODID:-//https://www.ikma.edu.my///NONSGML kigkonsult.se iCalcreator 2.10.15//
METHOD:PUBLISH
BEGIN:VEVENT
UID:20260423T081304UTC-8978JkAcSX@https://www.ikma.edu.my/
DTSTAMP:20260423T081304Z
DESCRIPTION:Bicara Ilmu https://www.ikma.edu.my/en/takwim-program/event/547
 -bicara-ilmu-kt-c-terengganu
DTSTART:20261118T080000Z
DTEND:20261118T170000Z
LOCATION:IKMa Kuala Terengganu ()
SUMMARY:BICARA ILMU(KT)- C.TERENGGANU
URL:https://www.ikma.edu.my/en/takwim-program/event/547-bicara-ilmu-kt-c-te
 rengganu
END:VEVENT
END:VCALENDAR
