BEGIN:VCALENDAR
VERSION:2.0
PRODID:-//https://www.ikma.edu.my///NONSGML kigkonsult.se iCalcreator 2.10.15//
METHOD:PUBLISH
BEGIN:VEVENT
UID:20260422T071424UTC-0542M9LL3d@https://www.ikma.edu.my/
DTSTAMP:20260422T071424Z
DESCRIPTION:Seminar https://www.ikma.edu.my/en/takwim-program/event/544-sem
 inar-ppt
DTSTART:20261030T080000Z
DTEND:20261101T170000Z
LOCATION:Tempat akan ditentukan kemudian ()
SUMMARY:SEMINAR -PPT
URL:https://www.ikma.edu.my/en/takwim-program/event/544-seminar-ppt
END:VEVENT
END:VCALENDAR
